0.5
0
0
-0.5
611280.146228633
4703955.69144394
