0.5
0
0
-0.5
594248.691277463
4696759.58900479
