0.5
0
0
-0.5
611429.941667211
4694702.92138903
