0.5
0
0
-0.5
614936.949240098
4690132.90964839
