0.5
0
0
-0.5
638637.341963632
4706767.23364774
