0.5
0
0
-0.5
621556.244117855
4704129.92144884
