0.5
0
0
-0.5
638683.929685696
4704453.89172137
