0.5
0
0
-0.5
635349.210523103
4699759.19121468
