0.5
0
0
-0.5
628622.909515069
4692688.23590054
