0.5
0
0
-0.5
655863.97898706
4702506.4323101
