0.5
0
0
-0.5
659344.047987528
4700271.3063745
