1
0
0
-1
586505.293522566
4761522.4373967
