1
0
0
-1
600234.830100067
4752460.65412511
