1
0
0
-1
620479.402177391
4762052.94909543
