1
0
0
-1
634255.203909788
4753058.51342064
