1
0
0
-1
668274.704176003
4753825.31001061
