1
0
0
-1
675199.368397702
4749372.32639056
