1
0
0
-1
559538.259057486
4738085.57268078
