1
0
0
-1
546068.040625878
4714842.05646745
