1
0
0
-1
648474.0079339
4725585.13059883
