1
0
0
-1
553020.798590709
4701014.75635226
