1
0
0
-1
601068.962935956
4696941.40071603
