1
0
0
-1
614942.765147898
4687907.32728077
