1
0
0
-1
615488.164277543
4655523.61742026
