1
0
0
-1
629287.419247417
4655768.65096033
