1
0
0
-1
608661.754445307
4650784.84328374
