1
0
0
-1
599743.825940497
4784849.89540335
