1
0
0
-1
593103.380266446
4775496.19545832
