2.5
0
0
-2.5
620545.984868629
4752999.87926617
