2.5
0
0
-2.5
552643.49080702
4733567.07507901
