2.5
0
0
-2.5
539055.751464302
4724210.22218066
