2.5
0
0
-2.5
622418.37168293
4651217.43726627
