0.5
0
0
-0.5
576370.059980167
4761318.12777324
