0.5
0
0
-0.5
613891.097690148
4752592.12619653
