0.5
0
0
-0.5
593579.093530925
4745338.50116376
