0.5
0
0
-0.5
614007.858823383
4745651.82290352
