0.5
0
0
-0.5
630719.633606422
4762153.0850865
