0.5
0
0
-0.5
624095.460085636
4752771.48695482
