0.5
0
0
-0.5
637701.671771059
4753034.10869537
