0.5
0
0
-0.5
661345.811683005
4760499.09168784
