0.5
0
0
-0.5
668199.02321989
4758350.96152672
