0.5
0
0
-0.5
675057.009606445
4756209.61573067
