0.5
0
0
-0.5
576607.533652959
4740497.21033414
