0.5
0
0
-0.5
566454.79864687
4733448.5548864
