0.5
0
0
-0.5
638030.077183131
4736840.74792405
