0.5
0
0
-0.5
631255.454381952
4734392.59943315
