0.5
0
0
-0.5
644996.475396618
4730042.50708175
