0.5
0
0
-0.5
542699.060505541
4714748.89298468
