0.5
0
0
-0.5
566546.127291895
4724195.11185437
