0.5
0
0
-0.5
583621.421940353
4724384.48603825
